BEGIN:VCALENDAR
VERSION:2.0
PRODID:-//Brettspielhelden Dresden - ECPv6.15.17.1//NONSGML v1.0//EN
CALSCALE:GREGORIAN
METHOD:PUBLISH
X-ORIGINAL-URL:https://brettspielhelden-dresden.de
X-WR-CALDESC:Veranstaltungen für Brettspielhelden Dresden
REFRESH-INTERVAL;VALUE=DURATION:PT1H
X-Robots-Tag:noindex
X-PUBLISHED-TTL:PT1H
BEGIN:VTIMEZONE
TZID:Europe/Berlin
BEGIN:DAYLIGHT
TZOFFSETFROM:+0100
TZOFFSETTO:+0200
TZNAME:CEST
DTSTART:20160327T010000
END:DAYLIGHT
BEGIN:STANDARD
TZOFFSETFROM:+0200
TZOFFSETTO:+0100
TZNAME:CET
DTSTART:20161030T010000
END:STANDARD
BEGIN:DAYLIGHT
TZOFFSETFROM:+0100
TZOFFSETTO:+0200
TZNAME:CEST
DTSTART:20170326T010000
END:DAYLIGHT
BEGIN:STANDARD
TZOFFSETFROM:+0200
TZOFFSETTO:+0100
TZNAME:CET
DTSTART:20171029T010000
END:STANDARD
BEGIN:DAYLIGHT
TZOFFSETFROM:+0100
TZOFFSETTO:+0200
TZNAME:CEST
DTSTART:20180325T010000
END:DAYLIGHT
BEGIN:STANDARD
TZOFFSETFROM:+0200
TZOFFSETTO:+0100
TZNAME:CET
DTSTART:20181028T010000
END:STANDARD
END:VTIMEZONE
BEGIN:VEVENT
DTSTART;TZID=Europe/Berlin:20170902T140000
DTEND;TZID=Europe/Berlin:20170902T180000
DTSTAMP:20260425T140729
CREATED:20170816T163916Z
LAST-MODIFIED:20170817T090135Z
UID:798-1504360800-1504375200@brettspielhelden-dresden.de
SUMMARY:Kinder- und Familien­spiele­nach­mittag
DESCRIPTION:Ab sofort findet an jedem 1. Samstag im Monat unser Kinder- und Familienspielenachmittag im Vereinshaus Aktives Leben statt. \nWir erwarten Euch und Eure Familien mit jeder Menge Spielen für Groß und Klein. Natürlich sind wir als Spieleerklärer vor Ort\, sodass nicht erst lange Anleitungen gelesen werden müssen. \nAlso schnappt Euch eure Liebsten und kommt vorbei!
URL:https://brettspielhelden-dresden.de/event/kinder-und-familienspielenachmittag/
LOCATION:Vereinshaus Aktives Leben\, Dürerstraße 89\, Dresden\, Sachsen\, 01307\, Deutschland
CATEGORIES:Familienspieletag,Spieleveranstaltung
ORGANIZER;CN="Brettspielhelden Dresden e.V.":MAILTO:info@brettspielhelden-dresden.de
END:VEVENT
BEGIN:VEVENT
DTSTART;TZID=Europe/Berlin:20170910T130000
DTEND;TZID=Europe/Berlin:20170910T180000
DTSTAMP:20260425T140729
CREATED:20170102T164005Z
LAST-MODIFIED:20170831T142407Z
UID:667-1505048400-1505066400@brettspielhelden-dresden.de
SUMMARY:Stadt\, Land Spielt!
DESCRIPTION:Am Wochenende vom 09.-10.09.17 heißt es wieder in ganz Deutschland: Stadt\, Land Spielt! \nAm Sonntag (10.09.17) sind wir dabei und erwarten Euch im Vereinshaus Aktives Leben zu einem tollen Spieletag! \nhttp://stadt-land-spielt.de/
URL:https://brettspielhelden-dresden.de/event/stadt-land-spielt-3/
LOCATION:Vereinshaus Aktives Leben\, Dürerstraße 89\, Dresden\, Sachsen\, 01307\, Deutschland
CATEGORIES:Spieleveranstaltung,Stadt Land Spielt
ATTACH;FMTTYPE=image/jpeg:https://brettspielhelden-dresden.de/wp-content/uploads/2015/08/Kalender-Veranstaltung.jpg
ORGANIZER;CN="Brettspielhelden Dresden e.&nbsp%3BV.":MAILTO:info@brettspielhelden-dresden.de
END:VEVENT
BEGIN:VEVENT
DTSTART;TZID=Europe/Berlin:20170916T140000
DTEND;TZID=Europe/Berlin:20170916T190000
DTSTAMP:20260425T140729
CREATED:20170831T142048Z
LAST-MODIFIED:20170911T064120Z
UID:817-1505570400-1505588400@brettspielhelden-dresden.de
SUMMARY:2. Epischer Spielenachmittag
DESCRIPTION:Am 16.09. um 14:00 Uhr veranstalten wir wieder unseren epischen Spieletag. \nDer epische Spieletag findet ab jetzt immer am dritten Samstag im Monat im Vereinshaus Aktives Leben (Dürerstr. 89) statt. \nUnter „epischen Spiele“ verstehen wir außergewöhnliche\, herausragende Spiele\, die man als Normalspieler eher selten zu Gesicht bekommt. Diese zeichnen sich meist durch komplexe Spielmechaniken\, umfangreiches Spielmaterial und stimmungsvolle Hintergrundgeschichten aus. \nFür unseren zweiten epischen Spieletag planen wir Strategiehit Scythe. https://boardgamegeek.com/boardgame/169786/scythe \nWie immer steht aber auch unser normales Vereinsangebot aus über 300 Spielen zur Verfügung. \nFalls Ihr Anregungen und Wünsche zum epische Spieletag habt\, schreibt uns unter info@brettspielhelden-dresden.de \nWir freuen uns auf viele Spielebegeisterte!
URL:https://brettspielhelden-dresden.de/event/2-epischer-spielenachmittag/
LOCATION:Vereinshaus Aktives Leben\, Dürerstraße 89\, Dresden\, Sachsen\, 01307\, Deutschland
CATEGORIES:Epischer Spielenachmittag
ATTACH;FMTTYPE=image/jpeg:https://brettspielhelden-dresden.de/wp-content/uploads/2015/08/Kalender-Spieletreff.jpg
ORGANIZER;CN="Brettspielhelden Dresden e.V.":MAILTO:info@brettspielhelden-dresden.de
END:VEVENT
END:VCALENDAR