BEGIN:VCALENDAR
VERSION:2.0
PRODID:-//Brettspielhelden Dresden - ECPv6.15.17.1//NONSGML v1.0//EN
CALSCALE:GREGORIAN
METHOD:PUBLISH
X-WR-CALNAME:Brettspielhelden Dresden
X-ORIGINAL-URL:https://brettspielhelden-dresden.de
X-WR-CALDESC:Veranstaltungen für Brettspielhelden Dresden
REFRESH-INTERVAL;VALUE=DURATION:PT1H
X-Robots-Tag:noindex
X-PUBLISHED-TTL:PT1H
BEGIN:VTIMEZONE
TZID:Europe/Berlin
BEGIN:DAYLIGHT
TZOFFSETFROM:+0100
TZOFFSETTO:+0200
TZNAME:CEST
DTSTART:20170326T010000
END:DAYLIGHT
BEGIN:STANDARD
TZOFFSETFROM:+0200
TZOFFSETTO:+0100
TZNAME:CET
DTSTART:20171029T010000
END:STANDARD
BEGIN:DAYLIGHT
TZOFFSETFROM:+0100
TZOFFSETTO:+0200
TZNAME:CEST
DTSTART:20180325T010000
END:DAYLIGHT
BEGIN:STANDARD
TZOFFSETFROM:+0200
TZOFFSETTO:+0100
TZNAME:CET
DTSTART:20181028T010000
END:STANDARD
BEGIN:DAYLIGHT
TZOFFSETFROM:+0100
TZOFFSETTO:+0200
TZNAME:CEST
DTSTART:20190331T010000
END:DAYLIGHT
BEGIN:STANDARD
TZOFFSETFROM:+0200
TZOFFSETTO:+0100
TZNAME:CET
DTSTART:20191027T010000
END:STANDARD
END:VTIMEZONE
BEGIN:VEVENT
DTSTART;TZID=Europe/Berlin:20180303T150000
DTEND;TZID=Europe/Berlin:20180303T170000
DTSTAMP:20260425T063224
CREATED:20180122T162207Z
LAST-MODIFIED:20180123T123445Z
UID:902-1520089200-1520096400@brettspielhelden-dresden.de
SUMMARY:Familienspieletag & IceCool-Turnier
DESCRIPTION:Am 3. März ist es wieder soweit: Familienspieletag im Vereinshaus Aktives Leben! Also schnappt euch eure Familie und kommt vorbei zum Spielen\, Spiele kennen lernen und Spaß haben! Wir freuen uns auf Euch! \nAb 16 Uhr startet das offizielle IceCool-Turnier! Anmeldung unter turniere@brettspielhelden-dresden.de
URL:https://brettspielhelden-dresden.de/event/familienspieletag-6/
LOCATION:Vereinshaus Aktives Leben\, Dürerstraße 89\, Dresden\, Sachsen\, 01307\, Deutschland
CATEGORIES:Familienspieletag,Turniere
ATTACH;FMTTYPE=image/jpeg:https://brettspielhelden-dresden.de/wp-content/uploads/2017/08/Image-Familienspieltag.jpg
ORGANIZER;CN="Brettspielhelden Dresden e.V.":MAILTO:info@brettspielhelden-dresden.de
END:VEVENT
BEGIN:VEVENT
DTSTART;TZID=Europe/Berlin:20180317T140000
DTEND;TZID=Europe/Berlin:20180317T170000
DTSTAMP:20260425T063224
CREATED:20180122T162709Z
LAST-MODIFIED:20180122T162709Z
UID:908-1521295200-1521306000@brettspielhelden-dresden.de
SUMMARY:Epischer Spieletag
DESCRIPTION:Am 17.03. um 14:00 Uhr veranstalten wir wieder unseren epischen Spieletag. \nDer epische Spieletag findet immer am dritten Samstag im Monat im Vereinshaus Aktives Leben (Dürerstr. 89) statt. \nUnter „epischen Spiele“ verstehen wir außergewöhnliche\, herausragende Spiele\, die man als Normalspieler eher selten zu Gesicht bekommt. Diese zeichnen sich meist durch komplexe Spielmechaniken\, umfangreiches Spielmaterial und stimmungsvolle Hintergrundgeschichten aus. \nWie immer steht aber auch unser normales Vereinsangebot aus über 300 Spielen zur Verfügung. \nFalls Ihr Anregungen und Wünsche zum epische Spieletag habt\, schreibt uns unter info@brettspielhelden-dresden.de \nWir freuen uns auf viele Spielebegeisterte!
URL:https://brettspielhelden-dresden.de/event/epischer-spieletag-3/
LOCATION:Vereinshaus Aktives Leben\, Dürerstraße 89\, Dresden\, Sachsen\, 01307\, Deutschland
CATEGORIES:Epischer Spielenachmittag
ATTACH;FMTTYPE=image/jpeg:https://brettspielhelden-dresden.de/wp-content/uploads/2017/08/Image-Epischer-Spieletag.jpg
ORGANIZER;CN="Brettspielhelden Dresden e.V.":MAILTO:info@brettspielhelden-dresden.de
END:VEVENT
BEGIN:VEVENT
DTSTART;TZID=Europe/Berlin:20180319T200000
DTEND;TZID=Europe/Berlin:20180319T213000
DTSTAMP:20260425T063224
CREATED:20180123T123829Z
LAST-MODIFIED:20180123T123829Z
UID:936-1521489600-1521495000@brettspielhelden-dresden.de
SUMMARY:Saboteur-Turnier
DESCRIPTION:Beim Spieletreff gibt es heute ab 20 Uhr ein offizielles Saboteur-Turnier. Wir freuen uns auf Euch\, Anmeldung unter turniere@brettspielhelden-dresden.de oder direkt vor Ort.
URL:https://brettspielhelden-dresden.de/event/saboteur-turnier/
LOCATION:Vereinshaus Aktives Leben\, Dürerstraße 89\, Dresden\, Sachsen\, 01307\, Deutschland
CATEGORIES:Turniere
ATTACH;FMTTYPE=image/jpeg:https://brettspielhelden-dresden.de/wp-content/uploads/2015/08/Kalender-Turnier.jpg
END:VEVENT
END:VCALENDAR