BEGIN:VCALENDAR
VERSION:2.0
PRODID:-//Brettspielhelden Dresden - ECPv6.15.17.1//NONSGML v1.0//EN
CALSCALE:GREGORIAN
METHOD:PUBLISH
X-ORIGINAL-URL:https://brettspielhelden-dresden.de
X-WR-CALDESC:Veranstaltungen für Brettspielhelden Dresden
REFRESH-INTERVAL;VALUE=DURATION:PT1H
X-Robots-Tag:noindex
X-PUBLISHED-TTL:PT1H
BEGIN:VTIMEZONE
TZID:Europe/Berlin
BEGIN:DAYLIGHT
TZOFFSETFROM:+0100
TZOFFSETTO:+0200
TZNAME:CEST
DTSTART:20170326T010000
END:DAYLIGHT
BEGIN:STANDARD
TZOFFSETFROM:+0200
TZOFFSETTO:+0100
TZNAME:CET
DTSTART:20171029T010000
END:STANDARD
BEGIN:DAYLIGHT
TZOFFSETFROM:+0100
TZOFFSETTO:+0200
TZNAME:CEST
DTSTART:20180325T010000
END:DAYLIGHT
BEGIN:STANDARD
TZOFFSETFROM:+0200
TZOFFSETTO:+0100
TZNAME:CET
DTSTART:20181028T010000
END:STANDARD
BEGIN:DAYLIGHT
TZOFFSETFROM:+0100
TZOFFSETTO:+0200
TZNAME:CEST
DTSTART:20190331T010000
END:DAYLIGHT
BEGIN:STANDARD
TZOFFSETFROM:+0200
TZOFFSETTO:+0100
TZNAME:CET
DTSTART:20191027T010000
END:STANDARD
END:VTIMEZONE
BEGIN:VEVENT
DTSTART;TZID=Europe/Berlin:20180917T193000
DTEND;TZID=Europe/Berlin:20180917T210000
DTSTAMP:20260425T001104
CREATED:20180813T151655Z
LAST-MODIFIED:20180813T151655Z
UID:1037-1537212600-1537218000@brettspielhelden-dresden.de
SUMMARY:Quixx-Turnier
DESCRIPTION:Ab 19:30 Uhr startet im Vereinshaus unser Quixx-Turnier. \nAnmeldung unter Turniere@brettspielhelden-dresden.de oder direkt vor Ort. \nWir freuen uns auf Euch.
URL:https://brettspielhelden-dresden.de/event/quixx-turnier/
LOCATION:Vereinshaus Aktives Leben\, Dürerstraße 89\, Dresden\, Sachsen\, 01307\, Deutschland
CATEGORIES:Turniere
END:VEVENT
BEGIN:VEVENT
DTSTART;TZID=Europe/Berlin:20180924T193000
DTEND;TZID=Europe/Berlin:20180924T210000
DTSTAMP:20260425T001104
CREATED:20180813T151811Z
LAST-MODIFIED:20180813T151811Z
UID:1039-1537817400-1537822800@brettspielhelden-dresden.de
SUMMARY:Cacao-Turnier
DESCRIPTION:Ab 19:30 Uhr startet im Vereinshaus unser Cacao-Turnier. \nAnmeldung unter Turniere@brettspielhelden-dresden.de oder direkt vor Ort. \nWir freuen uns auf Euch.
URL:https://brettspielhelden-dresden.de/event/cacao-turnier-2/
LOCATION:Vereinshaus Aktives Leben\, Dürerstraße 89\, Dresden\, Sachsen\, 01307\, Deutschland
CATEGORIES:Turniere
ATTACH;FMTTYPE=image/jpeg:https://brettspielhelden-dresden.de/wp-content/uploads/2015/08/Kalender-Turnier.jpg
END:VEVENT
END:VCALENDAR