BEGIN:VCALENDAR
VERSION:2.0
PRODID:-//Brettspielhelden Dresden - ECPv6.15.17.1//NONSGML v1.0//EN
CALSCALE:GREGORIAN
METHOD:PUBLISH
X-ORIGINAL-URL:https://brettspielhelden-dresden.de
X-WR-CALDESC:Veranstaltungen für Brettspielhelden Dresden
REFRESH-INTERVAL;VALUE=DURATION:PT1H
X-Robots-Tag:noindex
X-PUBLISHED-TTL:PT1H
BEGIN:VTIMEZONE
TZID:Europe/Berlin
BEGIN:DAYLIGHT
TZOFFSETFROM:+0100
TZOFFSETTO:+0200
TZNAME:CEST
DTSTART:20180325T010000
END:DAYLIGHT
BEGIN:STANDARD
TZOFFSETFROM:+0200
TZOFFSETTO:+0100
TZNAME:CET
DTSTART:20181028T010000
END:STANDARD
BEGIN:DAYLIGHT
TZOFFSETFROM:+0100
TZOFFSETTO:+0200
TZNAME:CEST
DTSTART:20190331T010000
END:DAYLIGHT
BEGIN:STANDARD
TZOFFSETFROM:+0200
TZOFFSETTO:+0100
TZNAME:CET
DTSTART:20191027T010000
END:STANDARD
BEGIN:DAYLIGHT
TZOFFSETFROM:+0100
TZOFFSETTO:+0200
TZNAME:CEST
DTSTART:20200329T010000
END:DAYLIGHT
BEGIN:STANDARD
TZOFFSETFROM:+0200
TZOFFSETTO:+0100
TZNAME:CET
DTSTART:20201025T010000
END:STANDARD
END:VTIMEZONE
BEGIN:VEVENT
DTSTART;TZID=Europe/Berlin:20191216T200000
DTEND;TZID=Europe/Berlin:20191216T230000
DTSTAMP:20260424T064630
CREATED:20191130T211858Z
LAST-MODIFIED:20191130T211858Z
UID:1146-1576526400-1576537200@brettspielhelden-dresden.de
SUMMARY:Schrottwichtel-Spieletreff
DESCRIPTION:Ho Ho Ho!\n\n\n \n\n\nDie Brettspielhelden feiern Weihnachten! Dazu findet wieder der berühmt-berüchtigte Schrottwichtel-Spieletreff am Montag\, den 16.12.\, statt.\n\nJeder kann mitmachen\, ob Vereinsmitglied oder Spieletreff-Interessierter. Wie haben genug Wichtelpakete für alle!\nAlso\, kommt vorbei und spielt um die begehrten Päckchen\, habt Spaß und bleibt gerne noch für das eine oder andere Spiel. \nWir freuen uns auf Euch.\nWeihnachtliche Grüße\, Eure Brettspielehelden.
URL:https://brettspielhelden-dresden.de/event/schrottwichtel-spieletreff/
LOCATION:Vereinshaus Aktives Leben\, Dürerstraße 89\, Dresden\, Sachsen\, 01307\, Deutschland
ATTACH;FMTTYPE=image/jpeg:https://brettspielhelden-dresden.de/wp-content/uploads/2019/11/Facebook_Titelbild.jpg
ORGANIZER;CN="Brettspielhelden Dresden e.&nbsp%3BV.":MAILTO:info@brettspielhelden-dresden.de
END:VEVENT
END:VCALENDAR