BEGIN:VCALENDAR
VERSION:2.0
PRODID:-//Brettspielhelden Dresden - ECPv6.15.17.1//NONSGML v1.0//EN
CALSCALE:GREGORIAN
METHOD:PUBLISH
X-ORIGINAL-URL:https://brettspielhelden-dresden.de
X-WR-CALDESC:Veranstaltungen für Brettspielhelden Dresden
REFRESH-INTERVAL;VALUE=DURATION:PT1H
X-Robots-Tag:noindex
X-PUBLISHED-TTL:PT1H
BEGIN:VTIMEZONE
TZID:Europe/Berlin
BEGIN:DAYLIGHT
TZOFFSETFROM:+0100
TZOFFSETTO:+0200
TZNAME:CEST
DTSTART:20210328T010000
END:DAYLIGHT
BEGIN:STANDARD
TZOFFSETFROM:+0200
TZOFFSETTO:+0100
TZNAME:CET
DTSTART:20211031T010000
END:STANDARD
BEGIN:DAYLIGHT
TZOFFSETFROM:+0100
TZOFFSETTO:+0200
TZNAME:CEST
DTSTART:20220327T010000
END:DAYLIGHT
BEGIN:STANDARD
TZOFFSETFROM:+0200
TZOFFSETTO:+0100
TZNAME:CET
DTSTART:20221030T010000
END:STANDARD
BEGIN:DAYLIGHT
TZOFFSETFROM:+0100
TZOFFSETTO:+0200
TZNAME:CEST
DTSTART:20230326T010000
END:DAYLIGHT
BEGIN:STANDARD
TZOFFSETFROM:+0200
TZOFFSETTO:+0100
TZNAME:CET
DTSTART:20231029T010000
END:STANDARD
END:VTIMEZONE
BEGIN:VEVENT
DTSTART;TZID=Europe/Berlin:20220923T150000
DTEND;TZID=Europe/Berlin:20220923T180000
DTSTAMP:20260422T112921
CREATED:20220612T221101Z
LAST-MODIFIED:20220913T145749Z
UID:1742-1663945200-1663956000@brettspielhelden-dresden.de
SUMMARY:Spielenachmittag im Hinterhof
DESCRIPTION:Der Johannstadthalle e. V. hat während der Corona-Zeit ein Konzept für outdoor-Veranstaltungen im Stadtgebiet erarbeitet und wird auch in diesem Jahr an 6 Terminen im Stadtteil präsent sein. Konzeptionell wechselt das Programm von musikalischen Beiträgen zu Mitmachaktionen. So beginnen sie im Mai mit einem Kräutertag\, im Juni folgt ein Konzert und im September bestreiten wir Brettspielhelden das Programm mit einem Spielenachmittag. \nEs geht nicht um ein großes Einzugsgebiet\, sondern richtet sich tatsächlich als Freizeitangebot an die vor-Ort-Wohnenden. Der Ort ist direkt hinter unserem Vereinshaus gelegen\, keine 100 m weit entfernt. Auch ein kleiner Spielplatz mit Sandkasten steht zur Nutzung bereit.
URL:https://brettspielhelden-dresden.de/event/spielenachmittag-im-hinterhof/
LOCATION:Hinterhof Verein\, Blasewitzer Str. 20\, Dresden\, 01307\, Deutschland
CATEGORIES:Spieleveranstaltung
ATTACH;FMTTYPE=image/jpeg:https://brettspielhelden-dresden.de/wp-content/uploads/2021/09/43E56173-9AC2-42F0-8815-A5E8474B9489-scaled.jpeg
END:VEVENT
END:VCALENDAR