BEGIN:VCALENDAR
VERSION:2.0
PRODID:-//Brettspielhelden Dresden - ECPv6.15.17.1//NONSGML v1.0//EN
CALSCALE:GREGORIAN
METHOD:PUBLISH
X-WR-CALNAME:Brettspielhelden Dresden
X-ORIGINAL-URL:https://brettspielhelden-dresden.de
X-WR-CALDESC:Veranstaltungen für Brettspielhelden Dresden
REFRESH-INTERVAL;VALUE=DURATION:PT1H
X-Robots-Tag:noindex
X-PUBLISHED-TTL:PT1H
BEGIN:VTIMEZONE
TZID:Europe/Berlin
BEGIN:DAYLIGHT
TZOFFSETFROM:+0100
TZOFFSETTO:+0200
TZNAME:CEST
DTSTART:20230326T010000
END:DAYLIGHT
BEGIN:STANDARD
TZOFFSETFROM:+0200
TZOFFSETTO:+0100
TZNAME:CET
DTSTART:20231029T010000
END:STANDARD
BEGIN:DAYLIGHT
TZOFFSETFROM:+0100
TZOFFSETTO:+0200
TZNAME:CEST
DTSTART:20240331T010000
END:DAYLIGHT
BEGIN:STANDARD
TZOFFSETFROM:+0200
TZOFFSETTO:+0100
TZNAME:CET
DTSTART:20241027T010000
END:STANDARD
BEGIN:DAYLIGHT
TZOFFSETFROM:+0100
TZOFFSETTO:+0200
TZNAME:CEST
DTSTART:20250330T010000
END:DAYLIGHT
BEGIN:STANDARD
TZOFFSETFROM:+0200
TZOFFSETTO:+0100
TZNAME:CET
DTSTART:20251026T010000
END:STANDARD
END:VTIMEZONE
BEGIN:VEVENT
DTSTART;TZID=Europe/Berlin:20240503T183000
DTEND;TZID=Europe/Berlin:20240504T010000
DTSTAMP:20260421T092506
CREATED:20240226T095550Z
LAST-MODIFIED:20240226T095814Z
UID:3029-1714761000-1714784400@brettspielhelden-dresden.de
SUMMARY:Pegasus-Spieletag
DESCRIPTION:Dieses Frühjahr sind wir wieder bei den Pegasus-Spieletagen dabei und stellen die Neuheiten von Pegasus vor. \nFreut euch auf einen tollen Abend mit vielen neuen Spielen und u.a. Chrono Cops – Einsteins Relativitätskrise\, Kissenschlacht um Mitternacht\, Sync or Swim\, The Vale of Eternity und Zilence.
URL:https://brettspielhelden-dresden.de/event/pegasus-spieletag-1-2024/
LOCATION:Ludothek\, Holbeinstr. 68\, Dresden\, 01307\, Deutschland
CATEGORIES:Pegasus-Spieletage,Spieleveranstaltung
ATTACH;FMTTYPE=image/png:https://brettspielhelden-dresden.de/wp-content/uploads/2024/02/IMG_0229.png
ORGANIZER;CN="Brettspielhelden Dresden e.&nbsp%3BV.":MAILTO:info@brettspielhelden-dresden.de
END:VEVENT
END:VCALENDAR