BEGIN:VCALENDAR
VERSION:2.0
PRODID:-//Brettspielhelden Dresden - ECPv6.15.17.1//NONSGML v1.0//EN
CALSCALE:GREGORIAN
METHOD:PUBLISH
X-ORIGINAL-URL:https://brettspielhelden-dresden.de
X-WR-CALDESC:Veranstaltungen für Brettspielhelden Dresden
REFRESH-INTERVAL;VALUE=DURATION:PT1H
X-Robots-Tag:noindex
X-PUBLISHED-TTL:PT1H
BEGIN:VTIMEZONE
TZID:Europe/Berlin
BEGIN:DAYLIGHT
TZOFFSETFROM:+0100
TZOFFSETTO:+0200
TZNAME:CEST
DTSTART:20140330T010000
END:DAYLIGHT
BEGIN:STANDARD
TZOFFSETFROM:+0200
TZOFFSETTO:+0100
TZNAME:CET
DTSTART:20141026T010000
END:STANDARD
BEGIN:DAYLIGHT
TZOFFSETFROM:+0100
TZOFFSETTO:+0200
TZNAME:CEST
DTSTART:20150329T010000
END:DAYLIGHT
BEGIN:STANDARD
TZOFFSETFROM:+0200
TZOFFSETTO:+0100
TZNAME:CET
DTSTART:20151025T010000
END:STANDARD
BEGIN:DAYLIGHT
TZOFFSETFROM:+0100
TZOFFSETTO:+0200
TZNAME:CEST
DTSTART:20160327T010000
END:DAYLIGHT
BEGIN:STANDARD
TZOFFSETFROM:+0200
TZOFFSETTO:+0100
TZNAME:CET
DTSTART:20161030T010000
END:STANDARD
END:VTIMEZONE
BEGIN:VEVENT
DTSTART;TZID=Europe/Berlin:20150912T130000
DTEND;TZID=Europe/Berlin:20150912T180000
DTSTAMP:20260424T203511
CREATED:20150825T214634Z
LAST-MODIFIED:20220916T134056Z
UID:121-1442062800-1442080800@brettspielhelden-dresden.de
SUMMARY:Stadt\, Land\, Spielt!
DESCRIPTION:Parallel zu 75 anderen Veranstaltungen in Deutschland und Österreich feiern wir die 3. Tage des Gesellschaftsspiels am Samstag\, den 12.09.2015 von 13 Uhr bis 18 Uhr in der verspielten Kneipe Triangel in der Arnoldstraße 16 in Dresden. \nWir laden an diesem Spieletag alle Vielspieler\, Gelegenheitsspieler und Noch-Nicht-Spieler aller Altersklassen ein. Hier können über 200 Spiele (Brett-\, Familien-\, Würfel-\, Kartenspiele und vieles mehr) nach Herzenslust ausprobiert werden. \nZur Homepage Stadt\, Land\, Spielt!
URL:https://brettspielhelden-dresden.de/event/stadt-land-spielt/
LOCATION:Triangel\, Arnoldstr. 16\, Dresden\, Sachsen\, 01307\, Deutschland
CATEGORIES:Spieleveranstaltung,Stadt Land Spielt
ATTACH;FMTTYPE=image/jpeg:https://brettspielhelden-dresden.de/wp-content/uploads/2015/08/Kalender-Veranstaltung.jpg
ORGANIZER;CN="Brettspielhelden Dresden e.&nbsp%3BV.":MAILTO:info@brettspielhelden-dresden.de
END:VEVENT
END:VCALENDAR