BEGIN:VCALENDAR
VERSION:2.0
PRODID:-//Brettspielhelden Dresden - ECPv6.15.17.1//NONSGML v1.0//EN
CALSCALE:GREGORIAN
METHOD:PUBLISH
X-ORIGINAL-URL:https://brettspielhelden-dresden.de
X-WR-CALDESC:Veranstaltungen für Brettspielhelden Dresden
REFRESH-INTERVAL;VALUE=DURATION:PT1H
X-Robots-Tag:noindex
X-PUBLISHED-TTL:PT1H
BEGIN:VTIMEZONE
TZID:Europe/Berlin
BEGIN:DAYLIGHT
TZOFFSETFROM:+0100
TZOFFSETTO:+0200
TZNAME:CEST
DTSTART:20150329T010000
END:DAYLIGHT
BEGIN:STANDARD
TZOFFSETFROM:+0200
TZOFFSETTO:+0100
TZNAME:CET
DTSTART:20151025T010000
END:STANDARD
BEGIN:DAYLIGHT
TZOFFSETFROM:+0100
TZOFFSETTO:+0200
TZNAME:CEST
DTSTART:20160327T010000
END:DAYLIGHT
BEGIN:STANDARD
TZOFFSETFROM:+0200
TZOFFSETTO:+0100
TZNAME:CET
DTSTART:20161030T010000
END:STANDARD
BEGIN:DAYLIGHT
TZOFFSETFROM:+0100
TZOFFSETTO:+0200
TZNAME:CEST
DTSTART:20170326T010000
END:DAYLIGHT
BEGIN:STANDARD
TZOFFSETFROM:+0200
TZOFFSETTO:+0100
TZNAME:CET
DTSTART:20171029T010000
END:STANDARD
END:VTIMEZONE
BEGIN:VEVENT
DTSTART;TZID=Europe/Berlin:20160911T130000
DTEND;TZID=Europe/Berlin:20160911T180000
DTSTAMP:20260424T070733
CREATED:20160324T163548Z
LAST-MODIFIED:20160815T093346Z
UID:417-1473598800-1473616800@brettspielhelden-dresden.de
SUMMARY:Stadt\, Land\, Spielt!
DESCRIPTION:Nachdem 2015 über 11.000 Besucher deutschlandweit bei Stadt-Land-Spielt! dabei waren\, dürfen wir uns auch 2016 wieder auf ein verspieltes 2. September-Wochenende freuen. \nParallel an 76 Orten darf dann wieder nach Herzenlust gespielt werden. Natürlich sind wir als Triangel e.V. mit dabei und freuen uns auf Euch! \nAlso kommt vorbei und spielt mit! Egal ob Familien-\, Kinder- oder Strategie-Spiele\, wir finden für jeden das richtige Spiel und sind als Spiele-Erklärer vor Ort. \nWir haben zwei Turniere für euch geplant (Turnieranmeldung per Mail an turniere@brettspielhelden-dresden.de oder spontan vor Ort): \n\n13 Uhr Saboteur\n15 Uhr Dominion\n\nStadt\, Land\, Spielt 2015 \nHomepage Stadt\, Land\, Spielt!
URL:https://brettspielhelden-dresden.de/event/stadt-land-spielt-2/
LOCATION:Vereinshaus Aktives Leben\, Dürerstraße 89\, Dresden\, Sachsen\, 01307\, Deutschland
CATEGORIES:Spieleveranstaltung
ATTACH;FMTTYPE=image/jpeg:https://brettspielhelden-dresden.de/wp-content/uploads/2015/08/Kalender-Veranstaltung.jpg
ORGANIZER;CN="Brettspielhelden Dresden e.&nbsp%3BV.":MAILTO:info@brettspielhelden-dresden.de
END:VEVENT
END:VCALENDAR